BEGIN:VCALENDAR
VERSION:2.0
PRODID:-//Plone.org//NONSGML plone.app.event//EN
X-WR-TIMEZONE:Brazil/East
BEGIN:VEVENT
SUMMARY:27ª Ordinária da 3ª Sessão Legislativa da 9ª Legislatura
DTSTART;TZID=Brazil/East;VALUE=DATE-TIME:20230523T190000
DTEND;TZID=Brazil/East;VALUE=DATE-TIME:20230523T230000
DTSTAMP;VALUE=DATE-TIME:20260424T080540Z
UID:1d46870e69734960907568fc7b76fc5e@www.santana.ap.leg.br
CREATED;VALUE=DATE-TIME:20230517T154811Z
DESCRIPTION:26ª Ordinária da 3ª Sessão Legislativa da 9ª Legislatura
LAST-MODIFIED;VALUE=DATE-TIME:20230517T154814Z
LOCATION:Santana
URL:https://www.santana.ap.leg.br/institucional/eventos/27a-ordinaria-da-3
 a-sessao-legislativa-da-9a-legislatura
END:VEVENT
BEGIN:VTIMEZONE
TZID:Brazil/East
X-LIC-LOCATION:Brazil/East
BEGIN:STANDARD
DTSTART;VALUE=DATE-TIME:20230225T230000
TZNAME:BRT
TZOFFSETFROM:-0200
TZOFFSETTO:-0300
END:STANDARD
END:VTIMEZONE
END:VCALENDAR
