BEGIN:VCALENDAR
VERSION:2.0
PRODID:-//Plone.org//NONSGML plone.app.event//EN
X-WR-TIMEZONE:Brazil/East
BEGIN:VEVENT
SUMMARY: 64ª Sessão Ordinária 
DTSTART;TZID=Brazil/East;VALUE=DATE-TIME:20231117T190000
DTEND;TZID=Brazil/East;VALUE=DATE-TIME:20231117T235900
DTSTAMP;VALUE=DATE-TIME:20260424T074548Z
UID:6b15bcb52a4f462dbdb9150325984ee0@www.santana.ap.leg.br
CREATED;VALUE=DATE-TIME:20231114T131228Z
DESCRIPTION:64ª Sessão Ordinária da 3ª Sessão Legislativa da 9ª Legi
 slatura (2021 -\n2024) Legislatura
LAST-MODIFIED;VALUE=DATE-TIME:20231114T131312Z
URL:https://www.santana.ap.leg.br/institucional/eventos/64a-sessao-ordinar
 ia
END:VEVENT
BEGIN:VTIMEZONE
TZID:Brazil/East
X-LIC-LOCATION:Brazil/East
BEGIN:DAYLIGHT
DTSTART;VALUE=DATE-TIME:20231015T010000
TZNAME:BRST
TZOFFSETFROM:-0300
TZOFFSETTO:-0200
END:DAYLIGHT
END:VTIMEZONE
END:VCALENDAR
