BEGIN:VCALENDAR
VERSION:2.0
PRODID:-//Plone.org//NONSGML plone.app.event//EN
X-WR-TIMEZONE:Brazil/East
BEGIN:VEVENT
SUMMARY:Sessão Ordinária
DTSTART;TZID=Brazil/East;VALUE=DATE-TIME:20180403T090000
DTEND;TZID=Brazil/East;VALUE=DATE-TIME:20180403T113000
DTSTAMP;VALUE=DATE-TIME:20260424T073009Z
UID:ac044e79bbc8473782546a40aded1434@santana.ap.leg.br
ATTENDEE;CN="Vereadores e servidores; aberto ao público.";ROLE=REQ-PARTIC
 IPANT:Vereadores e servidores; aberto ao público.
CREATED;VALUE=DATE-TIME:20180403T135611Z
DESCRIPTION:Sessão Ordinária realizada em plenário.
LAST-MODIFIED;VALUE=DATE-TIME:20180403T135622Z
LOCATION:Câmara Municipal de Santana
URL:https://www.santana.ap.leg.br/institucional/eventos/sessao-ordinaria
END:VEVENT
BEGIN:VTIMEZONE
TZID:Brazil/East
X-LIC-LOCATION:Brazil/East
BEGIN:STANDARD
DTSTART;VALUE=DATE-TIME:20180217T230000
TZNAME:BRT
TZOFFSETFROM:-0200
TZOFFSETTO:-0300
END:STANDARD
END:VTIMEZONE
END:VCALENDAR
